BEGIN:VCALENDAR
CALSCALE:GREGORIAN
X-WR-TIMEZONE;VALUE=TEXT:GMT
PRODID:PEAK Corporation - piCal -
X-WR-CALNAME;VALUE=TEXT:干拓堤防松並木整備作業
VERSION:2.0
METHOD:PUBLISH
BEGIN:VTIMEZONE
TZID:GMT
BEGIN:STANDARD
DTSTART:19390101T000000
TZOFFSETFROM:+0000
TZOFFSETTO:+0000
TZNAME:GMT
END:STANDARD
END:VTIMEZONE
BEGIN:VEVENT
DTSTART:20190721T080000Z
DTEND:20190721T120000Z
LOCATION:干拓堤防
TRANSP:OPAQUE
SEQUENCE:2
UID:pical060-0f668c6aa8fce1995d5f7492766adc65
DTSTAMP:20190705T003753Z
CATEGORIES:
DESCRIPTION:小雨決行
SUMMARY:干拓堤防松並木整備作業
PRIORITY:0
CLASS:PUBLIC
END:VEVENT
END:VCALENDAR
