BEGIN:VCALENDAR
CALSCALE:GREGORIAN
X-WR-TIMEZONE;VALUE=TEXT:GMT
PRODID:PEAK Corporation - piCal -
X-WR-CALNAME;VALUE=TEXT:敬老会説明会
VERSION:2.0
METHOD:PUBLISH
BEGIN:VTIMEZONE
TZID:GMT
BEGIN:STANDARD
DTSTART:19390101T000000
TZOFFSETFROM:+0000
TZOFFSETTO:+0000
TZNAME:GMT
END:STANDARD
END:VTIMEZONE
BEGIN:VEVENT
DTSTART;VALUE=DATE:20190708
DTEND;VALUE=DATE:20190709
LOCATION:
TRANSP:OPAQUE
SEQUENCE:0
UID:pical060-44071b3b34e0b13a108b1d0d98d563a8
DTSTAMP:20190705T001132Z
CATEGORIES:
DESCRIPTION:
SUMMARY:敬老会説明会
PRIORITY:0
CLASS:PUBLIC
END:VEVENT
END:VCALENDAR
